BEGIN:VCALENDAR
VERSION:2.0
PRODID:-//hacksw/handcal//NONSGML v1.0//EN
BEGIN:VEVENT
UID:0ab834daefa0aa201d764c6f2a5fa4e4
DTSTAMP:20260426T000841Z

DTSTART:20260823T000000
DTEND:20260823T000000
SUMMARY:Swiss Volvo Classics "Volvo Oldie Treffen"
DESCRIPTION:Ausstellung: Grill & Plausch, Wettbewerb\n

X-ALT-DESC;FMTTYPE=text/html:<!DOCTYPE HTML PUBLIC "-//W3C//DTD HTML 3.2//EN">\n<HTML>\n<HEAD>\n<META NAME="Generator" CONTENT="MS Exchange Server version 08.00.0681.000">\n<TITLE></TITLE>\n</HEAD>\n<BODY>\n<!-- Converted from text/rtf format -->\n\nAusstellung: Grill & Plausch, Wettbewerb<br />\n\n</BODY>\n</HTML>

LOCATION:Guggibadstrasse, 6288 Schongau, Schweiz
END:VEVENT

END:VCALENDAR
