BEGIN:VCALENDAR
VERSION:2.0
PRODID:-//hacksw/handcal//NONSGML v1.0//EN
BEGIN:VEVENT
UID:56d38f0494f7695b84e354c00965ff66
DTSTAMP:20260425T204723Z

DTSTART:20260215T100000
DTEND:20260215T170000
SUMMARY:Youngtimer-Treffen (bis 2006)
DESCRIPTION:Tauchen Sie ein in eine automobile Epoche, in der moderne Technik, wie Klimaanlagen, elektrische Fensterheber und ABS-Systeme boomten. Willkommen sind alle Autos, die zwischen 20 und 30 Jahre alt sind.\n\nWir freuen uns auf zahlreiche spannende Fahrzeuge, auf Fahrer und Besucher.\n\nHighlights des Events:\n• Bewundern Sie Liebhaberfahrzeuge mit Baujahr 1996 bis 2006\n• Freuen Sie sich auf spannende Begegnungen mit Fahrern und Fans\n• Ausreichend Parkplätze für Fahrzeuge und Besucher vorhanden\n• Keine Anmeldung nötig\n\nWir freuen uns auf Sie und Ihr Fahrzeug!

X-ALT-DESC;FMTTYPE=text/html:<!DOCTYPE HTML PUBLIC "-//W3C//DTD HTML 3.2//EN">\n<HTML>\n<HEAD>\n<META NAME="Generator" CONTENT="MS Exchange Server version 08.00.0681.000">\n<TITLE></TITLE>\n</HEAD>\n<BODY>\n<!-- Converted from text/rtf format -->\n\nTauchen Sie ein in eine automobile Epoche, in der moderne Technik, wie Klimaanlagen, elektrische Fensterheber und ABS-Systeme boomten. Willkommen sind alle Autos, die zwischen 20 und 30 Jahre alt sind.<br /><br />Wir freuen uns auf zahlreiche spannende Fahrzeuge, auf Fahrer und Besucher.<br /><br />Highlights des Events:<br />• Bewundern Sie Liebhaberfahrzeuge mit Baujahr 1996 bis 2006<br />• Freuen Sie sich auf spannende Begegnungen mit Fahrern und Fans<br />• Ausreichend Parkplätze für Fahrzeuge und Besucher vorhanden<br />• Keine Anmeldung nötig<br /><br />Wir freuen uns auf Sie und Ihr Fahrzeug!\n\n</BODY>\n</HTML>

LOCATION:Gewerbestrasse 4, 4552 Derendingen, Schweiz
END:VEVENT

END:VCALENDAR
