BEGIN:VCALENDAR
VERSION:2.0
PRODID:-//hacksw/handcal//NONSGML v1.0//EN
BEGIN:VEVENT
UID:4a1ba260ed109041492aadecb40fa192
DTSTAMP:20260424T075130Z

DTSTART:20260614T000000
DTEND:20260614T000000
SUMMARY:Oldtimer am Rigi
DESCRIPTION:Oldtimer am Rigi – unter diesem Namen führt die Oldtimer IG Rigiland seit 2006 auf der Lindenhofwiese in Küssnacht am Rigi ein Oldtimertreffen durch. Egal, ob Automobil, Motorrad, Dampfmaschine oder Traktor, willkommen sind alle Fahrzeuge bis Jahrgang 1970.

X-ALT-DESC;FMTTYPE=text/html:<!DOCTYPE HTML PUBLIC "-//W3C//DTD HTML 3.2//EN">\n<HTML>\n<HEAD>\n<META NAME="Generator" CONTENT="MS Exchange Server version 08.00.0681.000">\n<TITLE></TITLE>\n</HEAD>\n<BODY>\n<!-- Converted from text/rtf format -->\n\nOldtimer am Rigi – unter diesem Namen führt die Oldtimer IG Rigiland seit 2006 auf der Lindenhofwiese in Küssnacht am Rigi ein Oldtimertreffen durch. Egal, ob Automobil, Motorrad, Dampfmaschine oder Traktor, willkommen sind alle Fahrzeuge bis Jahrgang 1970.\n\n</BODY>\n</HTML>

LOCATION:Luzernerstrasse 9, 6403 Küssnacht, Schweiz
END:VEVENT

END:VCALENDAR
