BEGIN:VCALENDAR
VERSION:2.0
PRODID:-//hacksw/handcal//NONSGML v1.0//EN
BEGIN:VEVENT
UID:2ac1c567aa0ee4394d121a810a0fd24f
DTSTAMP:20260424T051157Z

DTSTART:20260830T000000
DTEND:20260830T000000
SUMMARY:British Car Meeting
DESCRIPTION:Jährliches Treffen britischer Fahrzeuge. Wir erwarten auch dieses Jahr wieder 1300 bis 1500 Fahrzeuge verschiedener Epochen.\n\nDas BCM 2026 wird wieder am gewohnten Ort auf dem Flugplatz Mollis GL über die Bühne gehen. Bitte notiert schon heute den Sonntag, 30. August 2026, in euren Kalendern. Es wird dort wird auch wieder ein Special Guest zugegen sein.

X-ALT-DESC;FMTTYPE=text/html:<!DOCTYPE HTML PUBLIC "-//W3C//DTD HTML 3.2//EN">\n<HTML>\n<HEAD>\n<META NAME="Generator" CONTENT="MS Exchange Server version 08.00.0681.000">\n<TITLE></TITLE>\n</HEAD>\n<BODY>\n<!-- Converted from text/rtf format -->\n\nJährliches Treffen britischer Fahrzeuge. Wir erwarten auch dieses Jahr wieder 1300 bis 1500 Fahrzeuge verschiedener Epochen.<br /><br />Das BCM 2026 wird wieder am gewohnten Ort auf dem Flugplatz Mollis GL über die Bühne gehen. Bitte notiert schon heute den Sonntag, 30. August 2026, in euren Kalendern. Es wird dort wird auch wieder ein Special Guest zugegen sein.\n\n</BODY>\n</HTML>

LOCATION:Flugplatz, 8753 Mollis, Schweiz
END:VEVENT

END:VCALENDAR
