BEGIN:VCALENDAR
VERSION:2.0
PRODID:-//hacksw/handcal//NONSGML v1.0//EN
BEGIN:VEVENT
UID:4f756339c17a027114e65fd79a91c917
DTSTAMP:20260425T130728Z

DTSTART:20260123T000000
DTEND:20260125T235959
SUMMARY:Truffes en Provence (FR)
DESCRIPTION:Wochenende für Geniesser, Fahrer und Entdecker: dreitägige Intensivtour von Bern über Chambéry auf reizvollen winterfesten Pässen durch die wilde Schönheit der Chartreuse und weiter in das Herz der Trüffelregion in der südfranzösischen Vaucluse. Die Teilnehmer übernachten im historischen Grignan im wunderschönen Hotel Le Chapouton.

X-ALT-DESC;FMTTYPE=text/html:<!DOCTYPE HTML PUBLIC "-//W3C//DTD HTML 3.2//EN">\n<HTML>\n<HEAD>\n<META NAME="Generator" CONTENT="MS Exchange Server version 08.00.0681.000">\n<TITLE></TITLE>\n</HEAD>\n<BODY>\n<!-- Converted from text/rtf format -->\n\nWochenende für Geniesser, Fahrer und Entdecker: dreitägige Intensivtour von Bern über Chambéry auf reizvollen winterfesten Pässen durch die wilde Schönheit der Chartreuse und weiter in das Herz der Trüffelregion in der südfranzösischen Vaucluse. Die Teilnehmer übernachten im historischen Grignan im wunderschönen Hotel Le Chapouton.\n\n</BODY>\n</HTML>

LOCATION:Bern, Schweiz
END:VEVENT

END:VCALENDAR
