BEGIN:VCALENDAR
VERSION:2.0
PRODID:-//hacksw/handcal//NONSGML v1.0//EN
BEGIN:VEVENT
UID:f2ea15c60925d456529d778553f202c5
DTSTAMP:20260424T200652Z

DTSTART:20260429T173000
DTEND:20260429T213000
SUMMARY:Aus der Naht in die Kurve
DESCRIPTION:Aus der Naht in die Kurve - so das Motto der offiziellen Eröffnung des Autopflegezentrums in der Motorworld Zürich.Vereint unter einem Dach bringen wir alle Bereiche der Fahrzeugaufbereitung zusammen und widmen uns mit Herz und Expertise allen automobilen Träumen – ob innen oder außen. Erlebe, was Handwerk heute und morgen bedeutet, begleitet von Leckereien des Starkochs David Geisser. Jetzt das Datum reservieren und sich anmelden.

X-ALT-DESC;FMTTYPE=text/html:<!DOCTYPE HTML PUBLIC "-//W3C//DTD HTML 3.2//EN">\n<HTML>\n<HEAD>\n<META NAME="Generator" CONTENT="MS Exchange Server version 08.00.0681.000">\n<TITLE></TITLE>\n</HEAD>\n<BODY>\n<!-- Converted from text/rtf format -->\n\nAus der Naht in die Kurve - so das Motto der offiziellen Eröffnung des Autopflegezentrums in der Motorworld Zürich.Vereint unter einem Dach bringen wir alle Bereiche der Fahrzeugaufbereitung zusammen und widmen uns mit Herz und Expertise allen automobilen Träumen – ob innen oder außen. Erlebe, was Handwerk heute und morgen bedeutet, begleitet von Leckereien des Starkochs David Geisser. Jetzt das Datum reservieren und sich anmelden.\n\n</BODY>\n</HTML>

LOCATION:Kemptpark 3, 8310 Lindau, Schweiz
END:VEVENT

END:VCALENDAR
