BEGIN:VCALENDAR
VERSION:2.0
PRODID:-//hacksw/handcal//NONSGML v1.0//EN
BEGIN:VEVENT
UID:8299155b563c50af9eece06ad17a571a
DTSTAMP:20260426T035436Z

DTSTART:20260108T000000
DTEND:20260110T235959
SUMMARY:Planai-Classic (AT)
DESCRIPTION:Planai-Classic: Eines der letzten, wahren Winterabenteuer! \n\nDer Schnee wird tiefer, die Sicht schlechter, die Dachstein-Straße wird steiler und es wird immer rutschiger. Schneewechten machen die Straße immer schmaler, die Stoppuhr läuft. Die Windböen vom Dachstein fegen die alten Autos fast von der Straße, die Scheiben frieren zu.\n\nDie Planai-Classic wird ihrem Ruf gerecht. Drei Tage Winterabenteuer mit Autos bis Baujahr 1976. Winter am Alpenflugplatz Niederöblarn, Winter in den Seitentälern des Ennstals, Winter auf der Trabrennbahn Gröbming und als Höhepunkt Winter auf der bestens präparierten Planai-Straße.\n\nDas Ganze ohne Allrad und ohne elektronische Hilfen. Hier wird das Autofahren zu einem Rückfahrticket in die Jugend. Wer dabei ist, erlebt eines der letzten Abenteuer mit dem Blech der früheren Jahre.

X-ALT-DESC;FMTTYPE=text/html:<!DOCTYPE HTML PUBLIC "-//W3C//DTD HTML 3.2//EN">\n<HTML>\n<HEAD>\n<META NAME="Generator" CONTENT="MS Exchange Server version 08.00.0681.000">\n<TITLE></TITLE>\n</HEAD>\n<BODY>\n<!-- Converted from text/rtf format -->\n\nPlanai-Classic: Eines der letzten, wahren Winterabenteuer! <br /><br />Der Schnee wird tiefer, die Sicht schlechter, die Dachstein-Straße wird steiler und es wird immer rutschiger. Schneewechten machen die Straße immer schmaler, die Stoppuhr läuft. Die Windböen vom Dachstein fegen die alten Autos fast von der Straße, die Scheiben frieren zu.<br /><br />Die Planai-Classic wird ihrem Ruf gerecht. Drei Tage Winterabenteuer mit Autos bis Baujahr 1976. Winter am Alpenflugplatz Niederöblarn, Winter in den Seitentälern des Ennstals, Winter auf der Trabrennbahn Gröbming und als Höhepunkt Winter auf der bestens präparierten Planai-Straße.<br /><br />Das Ganze ohne Allrad und ohne elektronische Hilfen. Hier wird das Autofahren zu einem Rückfahrticket in die Jugend. Wer dabei ist, erlebt eines der letzten Abenteuer mit dem Blech der früheren Jahre.\n\n</BODY>\n</HTML>

LOCATION:Loypl. 98, 8962 Gröbming, Österreich
END:VEVENT

END:VCALENDAR
