BEGIN:VCALENDAR
VERSION:2.0
PRODID:-//hacksw/handcal//NONSGML v1.0//EN
BEGIN:VEVENT
UID:22402a6384d88f431b5811693e2403ac
DTSTAMP:20260424T194553Z

DTSTART:20261017T000000
DTEND:20261017T000000
SUMMARY:Mirandum
DESCRIPTION:Eckdaten | Samstag, 17. Oktober 2026 - Alle weiteren Details zum Treffpunkt folgen ca. 1 Woche vor der Tour.\n\nWie immer bei Mirandum ist die Tour im Detail nicht bekannt, sie wird am Treffpunkt (durch den Guide) erzählt. Ab dann folgen die Fahrzeuge dem Führungsfahrzeug und alle geniessen den noch ungewissen Tag. Das Mittagessen ist organisiert (vorbestelltes 3-Gänge-Menu).

X-ALT-DESC;FMTTYPE=text/html:<!DOCTYPE HTML PUBLIC "-//W3C//DTD HTML 3.2//EN">\n<HTML>\n<HEAD>\n<META NAME="Generator" CONTENT="MS Exchange Server version 08.00.0681.000">\n<TITLE></TITLE>\n</HEAD>\n<BODY>\n<!-- Converted from text/rtf format -->\n\nEckdaten | Samstag, 17. Oktober 2026 - Alle weiteren Details zum Treffpunkt folgen ca. 1 Woche vor der Tour.<br /><br />Wie immer bei Mirandum ist die Tour im Detail nicht bekannt, sie wird am Treffpunkt (durch den Guide) erzählt. Ab dann folgen die Fahrzeuge dem Führungsfahrzeug und alle geniessen den noch ungewissen Tag. Das Mittagessen ist organisiert (vorbestelltes 3-Gänge-Menu).\n\n</BODY>\n</HTML>

LOCATION:Kemptpark 3, 8310 Lindau, Schweiz
END:VEVENT

END:VCALENDAR
