BEGIN:VCALENDAR
VERSION:2.0
PRODID:-//hacksw/handcal//NONSGML v1.0//EN
BEGIN:VEVENT
UID:2cc57235ea7a9a4c0504780506f47bd4
DTSTAMP:20260426T002248Z

DTSTART:20260718T100000
DTEND:20260718T170000
SUMMARY:Cabriolet-Treffen
DESCRIPTION:Erleben auch Sie am Cabriolet-Treffen die Vielfalt der Frischluft-Gleiter. Vom Jaguar E-Type über einen Volvo C70 oder Mazda MX-5 bis zum VW T-Roc sind alle Modelle aus allen Jahrgängen ohne Dach willkommen.\n\nWir freuen uns auf zahlreiche verschiedene Cabrios, auf Fahrer und Besucher.\n\nHighlights des Events:\n• Erleben Sie das Lebensgefühl Cabriolet hautnah\n• Freuen Sie sich auf spannende Begegnungen mit Fahrern und Fans\n• Ausreichend Parkplätze für Fahrzeuge und Besucher vorhanden\n• Keine Anmeldung nötig\n\nWir freuen uns auf Sie und Ihr Fahrzeug!

X-ALT-DESC;FMTTYPE=text/html:<!DOCTYPE HTML PUBLIC "-//W3C//DTD HTML 3.2//EN">\n<HTML>\n<HEAD>\n<META NAME="Generator" CONTENT="MS Exchange Server version 08.00.0681.000">\n<TITLE></TITLE>\n</HEAD>\n<BODY>\n<!-- Converted from text/rtf format -->\n\nErleben auch Sie am Cabriolet-Treffen die Vielfalt der Frischluft-Gleiter. Vom Jaguar E-Type über einen Volvo C70 oder Mazda MX-5 bis zum VW T-Roc sind alle Modelle aus allen Jahrgängen ohne Dach willkommen.<br /><br />Wir freuen uns auf zahlreiche verschiedene Cabrios, auf Fahrer und Besucher.<br /><br />Highlights des Events:<br />• Erleben Sie das Lebensgefühl Cabriolet hautnah<br />• Freuen Sie sich auf spannende Begegnungen mit Fahrern und Fans<br />• Ausreichend Parkplätze für Fahrzeuge und Besucher vorhanden<br />• Keine Anmeldung nötig<br /><br />Wir freuen uns auf Sie und Ihr Fahrzeug!\n\n</BODY>\n</HTML>

LOCATION:Gewerbestrasse 4, 4552 Derendingen, Schweiz
END:VEVENT

END:VCALENDAR
