BEGIN:VCALENDAR
VERSION:2.0
PRODID:-//hacksw/handcal//NONSGML v1.0//EN
BEGIN:VEVENT
UID:0eae11983a9af96debead47e5f8bdf45
DTSTAMP:20260425T203852Z

DTSTART:20260503T090000
DTEND:20260503T160000
SUMMARY:French Car Meeting
DESCRIPTION:Willkommen sind zum Thema passende Fahrzeuge mit 1, 2, 3, 4 und mehr Rädern.\n\nOb modern oder uralt spielt dabei keine Rolle.\n\nClubs, die gemeinsam einfahren, können beieinander parken (keine Reservationen).\nParkplätze für Besuchende ohne passendes Fahrzeug gibt es genügend.\n\nFür Essen und Getränke ist gesorgt.\n\nEinfahrt CHF 5 pro Fahrzeug in bar oder per TWINT.

X-ALT-DESC;FMTTYPE=text/html:<!DOCTYPE HTML PUBLIC "-//W3C//DTD HTML 3.2//EN">\n<HTML>\n<HEAD>\n<META NAME="Generator" CONTENT="MS Exchange Server version 08.00.0681.000">\n<TITLE></TITLE>\n</HEAD>\n<BODY>\n<!-- Converted from text/rtf format -->\n\nWillkommen sind zum Thema passende Fahrzeuge mit 1, 2, 3, 4 und mehr Rädern.<br /><br />Ob modern oder uralt spielt dabei keine Rolle.<br /><br />Clubs, die gemeinsam einfahren, können beieinander parken (keine Reservationen).<br />Parkplätze für Besuchende ohne passendes Fahrzeug gibt es genügend.<br /><br />Für Essen und Getränke ist gesorgt.<br /><br />Einfahrt CHF 5 pro Fahrzeug in bar oder per TWINT.\n\n</BODY>\n</HTML>

LOCATION:Kemptpark 3, 8310 Lindau, Schweiz
END:VEVENT

END:VCALENDAR
