BEGIN:VCALENDAR
VERSION:2.0
PRODID:-//hacksw/handcal//NONSGML v1.0//EN
BEGIN:VEVENT
UID:6463b003f475d58f522e1a57aeec70a6
DTSTAMP:20260424T212245Z

DTSTART:20260104T100000
DTEND:20260104T170000
SUMMARY:Fahrzeugtreffen (Marken/Jg. offen)
DESCRIPTION:Von Klassiker über Youngtimer bis zu Neuwagen: Bei unserem offenen Fahrzeugtreffen sind alle Fahrzeuge Willkommen. Egal ob mit sechs oder zwei Rädern, ob Töff, Sportwagen oder Militärfahrzeug, ob original, restauriert oder stark getunt – erleben Sie die Vielfalt der Fahrzeuge und feiern Sie mit uns die automobile Welt mit allem, was dazu gehört.\n\nWir freuen uns auf zahlreiche spannende Fahrzeuge, auf Fahrer und Besucher.\n\nHighlights des Events:\n• Widmen Sie mit uns einen Tag der Mobilität – egal ob mit Klassiker, Youngtimer oder Neuwagen\n• Freuen Sie sich auf spannende Begegnungen mit Fahrern und Fans\n• Ausreichend Parkplätze für Fahrzeuge und Besucher vorhanden\n• Keine Anmeldung nötig\n\nWir freuen uns auf Sie und Ihr Fahrzeug!

X-ALT-DESC;FMTTYPE=text/html:<!DOCTYPE HTML PUBLIC "-//W3C//DTD HTML 3.2//EN">\n<HTML>\n<HEAD>\n<META NAME="Generator" CONTENT="MS Exchange Server version 08.00.0681.000">\n<TITLE></TITLE>\n</HEAD>\n<BODY>\n<!-- Converted from text/rtf format -->\n\nVon Klassiker über Youngtimer bis zu Neuwagen: Bei unserem offenen Fahrzeugtreffen sind alle Fahrzeuge Willkommen. Egal ob mit sechs oder zwei Rädern, ob Töff, Sportwagen oder Militärfahrzeug, ob original, restauriert oder stark getunt – erleben Sie die Vielfalt der Fahrzeuge und feiern Sie mit uns die automobile Welt mit allem, was dazu gehört.<br /><br />Wir freuen uns auf zahlreiche spannende Fahrzeuge, auf Fahrer und Besucher.<br /><br />Highlights des Events:<br />• Widmen Sie mit uns einen Tag der Mobilität – egal ob mit Klassiker, Youngtimer oder Neuwagen<br />• Freuen Sie sich auf spannende Begegnungen mit Fahrern und Fans<br />• Ausreichend Parkplätze für Fahrzeuge und Besucher vorhanden<br />• Keine Anmeldung nötig<br /><br />Wir freuen uns auf Sie und Ihr Fahrzeug!\n\n</BODY>\n</HTML>

LOCATION:Gewerbestrasse 4, 4552 Derendingen, Schweiz
END:VEVENT

END:VCALENDAR
