BEGIN:VCALENDAR
VERSION:2.0
PRODID:-//hacksw/handcal//NONSGML v1.0//EN
BEGIN:VEVENT
UID:f282b7343607ab506d7d2093bdce69f8
DTSTAMP:20260424T202219Z

DTSTART:20260830T110000
DTEND:20260830T110000
SUMMARY:Classic Sunday (DE)
DESCRIPTION:Classic Sunday Mai 2026\n\nDer Treffpunkt am MAC Museum für alle Autoenthusiasten! Bewundert tolle, seltene und außergewöhnliche Fahrzeuge, tauscht euch aus und genießt unsere legendäre Rennwurst. Wenn ihr Benzin im Blut habt, dürft ihr das nicht verpassen! Von Mai bis September, jeden letzten Sonntag im Monat ab 11:00 Uhr – ohne Anmeldung. Wir freuen uns auf euch!!

X-ALT-DESC;FMTTYPE=text/html:<!DOCTYPE HTML PUBLIC "-//W3C//DTD HTML 3.2//EN">\n<HTML>\n<HEAD>\n<META NAME="Generator" CONTENT="MS Exchange Server version 08.00.0681.000">\n<TITLE></TITLE>\n</HEAD>\n<BODY>\n<!-- Converted from text/rtf format -->\n\nClassic Sunday Mai 2026<br /><br />Der Treffpunkt am MAC Museum für alle Autoenthusiasten! Bewundert tolle, seltene und außergewöhnliche Fahrzeuge, tauscht euch aus und genießt unsere legendäre Rennwurst. Wenn ihr Benzin im Blut habt, dürft ihr das nicht verpassen! Von Mai bis September, jeden letzten Sonntag im Monat ab 11:00 Uhr – ohne Anmeldung. Wir freuen uns auf euch!!\n\n</BODY>\n</HTML>

LOCATION:Parkstraße 3, 78224 Singen (Hohentwiel), Deutschland
END:VEVENT

END:VCALENDAR
