BEGIN:VCALENDAR
VERSION:2.0
PRODID:-//hacksw/handcal//NONSGML v1.0//EN
BEGIN:VEVENT
UID:aa0bc4bcd53ebd92c67789ccdee10cd8
DTSTAMP:20260425T143233Z

DTSTART:20260127T000000
DTEND:20260127T000000
SUMMARY:Automobile Legends – The Peninsula Paris (FR)
DESCRIPTION:Artcurial Motorcars is partnering with The Peninsula Paris for Automobile Legends, an exceptional new auction taking place during Paris Classic Car Week. Sixty-five collector cars will be offered for auction alongside Jean Alesi’s iconic Ferrari F92A Formula 1.\n\nFrom 24 to 27 January 2026, the 65 automobiles included in the sale will be exhibited in the private garage of The Peninsula Paris, specially transformed into a temporary gallery. The auction will be held on Tuesday 27 January at 2pm in the hotel’s Grand Salon, offering collectors a unique experience at the crossroads of Parisian lifestyle and automotive passion.\n\nEach year, The Peninsula Paris hosts the Best of the Best award ceremony, which honors the most beautiful car in the world among the winners of international concours d’élégance. This collaboration also reflects a broader tradition: under the leadership of its President, Hon. Sir Michael Kadoorie, a passionate collector and iconic figure in the automotive world, The Peninsula hotels have always maintained close ties with the history and excellence of mobility.

X-ALT-DESC;FMTTYPE=text/html:<!DOCTYPE HTML PUBLIC "-//W3C//DTD HTML 3.2//EN">\n<HTML>\n<HEAD>\n<META NAME="Generator" CONTENT="MS Exchange Server version 08.00.0681.000">\n<TITLE></TITLE>\n</HEAD>\n<BODY>\n<!-- Converted from text/rtf format -->\n\nArtcurial Motorcars is partnering with The Peninsula Paris for Automobile Legends, an exceptional new auction taking place during Paris Classic Car Week. Sixty-five collector cars will be offered for auction alongside Jean Alesi’s iconic Ferrari F92A Formula 1.<br /><br />From 24 to 27 January 2026, the 65 automobiles included in the sale will be exhibited in the private garage of The Peninsula Paris, specially transformed into a temporary gallery. The auction will be held on Tuesday 27 January at 2pm in the hotel’s Grand Salon, offering collectors a unique experience at the crossroads of Parisian lifestyle and automotive passion.<br /><br />Each year, The Peninsula Paris hosts the Best of the Best award ceremony, which honors the most beautiful car in the world among the winners of international concours d’élégance. This collaboration also reflects a broader tradition: under the leadership of its President, Hon. Sir Michael Kadoorie, a passionate collector and iconic figure in the automotive world, The Peninsula hotels have always maintained close ties with the history and excellence of mobility.\n\n</BODY>\n</HTML>

LOCATION:19 Av. Kléber, 75116 Paris, Frankreich
END:VEVENT

END:VCALENDAR
